BEGIN:VCALENDAR
VERSION:2.0
PRODID:-//The Cathedral Center - ECPv6.15.20//NONSGML v1.0//EN
CALSCALE:GREGORIAN
METHOD:PUBLISH
X-WR-CALNAME:The Cathedral Center
X-ORIGINAL-URL:https://cathedral-center.org
X-WR-CALDESC:Events for The Cathedral Center
REFRESH-INTERVAL;VALUE=DURATION:PT1H
X-Robots-Tag:noindex
X-PUBLISHED-TTL:PT1H
BEGIN:VTIMEZONE
TZID:America/Chicago
BEGIN:DAYLIGHT
TZOFFSETFROM:-0600
TZOFFSETTO:-0500
TZNAME:CDT
DTSTART:20250309T080000
END:DAYLIGHT
BEGIN:STANDARD
TZOFFSETFROM:-0500
TZOFFSETTO:-0600
TZNAME:CST
DTSTART:20251102T070000
END:STANDARD
BEGIN:DAYLIGHT
TZOFFSETFROM:-0600
TZOFFSETTO:-0500
TZNAME:CDT
DTSTART:20260308T080000
END:DAYLIGHT
BEGIN:STANDARD
TZOFFSETFROM:-0500
TZOFFSETTO:-0600
TZNAME:CST
DTSTART:20261101T070000
END:STANDARD
BEGIN:DAYLIGHT
TZOFFSETFROM:-0600
TZOFFSETTO:-0500
TZNAME:CDT
DTSTART:20270314T080000
END:DAYLIGHT
BEGIN:STANDARD
TZOFFSETFROM:-0500
TZOFFSETTO:-0600
TZNAME:CST
DTSTART:20271107T070000
END:STANDARD
END:VTIMEZONE
BEGIN:VEVENT
DTSTART;VALUE=DATE:20260301
DTEND;VALUE=DATE:20260309
DTSTAMP:20260424T131338
CREATED:20260223T194447Z
LAST-MODIFIED:20260227T210749Z
UID:3121-1772323200-1773014399@cathedral-center.org
SUMMARY:2026 Empowerment Challenge
DESCRIPTION:JOIN IN ON THE 11th ANNUAL EMPOWERMENT CHALLENGE!\nThe Cathedral Center’s Empowerment Challenge will begin on March 1st and conclude on March 8th\, International Women’s Day! Hundreds of individuals and businesses will come together this week-long event helps us kick off our fundraising efforts\, supporting The Cathedral Center’s work that empowers women to set and achieve goals that move them out of homelessness and housing crises. Together\, we can help tip the scales of gender inequity while ending homelessness\, one life at a time! \nYou can accept the challenge by donating to The Cathedral Center and asking others to do the same. The Peter Geisert Giving Fund & The William N. and Janice V. Godfrey Family Foundation Trust are challenging you all to match their contributions of $20\,000\, to grow closer to our goal of raising $50\,000. All proceeds directly impact the women and families we serve\, supporting expenses such as rent\, security deposits\, transportation\, and items needed to return to their own homes. \nWhat is the best way that YOU and WE can EMPOWER women and families facing housing insecurities and crises? Help them to secure and stabilize safe housing of their own. \nFor more ways to get involved or if you have questions\, please e-mail Evan Barbian at ebarbian@cathedral-center.org. \npowered by Advanced iFrame
URL:https://cathedral-center.org/event/2026-empowerment-challenge/
LOCATION:The Cathedral Center\, 845 N. Van Buren Street\, Milwaukee\, WI\, United States
ATTACH;FMTTYPE=image/png:https://cathedral-center.org/wp-content/uploads/2026/02/EC26-Facebook-Cover-Photo.png
END:VEVENT
BEGIN:VEVENT
DTSTART;TZID=America/Chicago:20260505T173000
DTEND;TZID=America/Chicago:20260505T193000
DTSTAMP:20260424T131338
CREATED:20260422T185844Z
LAST-MODIFIED:20260422T185845Z
UID:3220-1778002200-1778009400@cathedral-center.org
SUMMARY:2026 BluTender
DESCRIPTION:Celebrate Cinco de Mayo and an early Mother’s Day at our first ever BluTender event as we gather to raise funds for a cause that truly matters. Enjoy a delicious grazing station and refreshing beverages while mingling with friends and community members\, all in support of the Cathedral Center’s mission to empower women and families experiencing homelessness and housing crises. Your contribution will directly impact lives by providing essential services\, resources\, and support to those in need. \n \nJoin us at The Pfister Hotel’s Blu Bar & Lounge for light appetizers\, featured cocktails\, and local guest bartenders. We’re thrilled to welcome two duos of bartenders that will make this a night you don’t want to miss! Our first duo features Liz Sellars\, Cathedral Center’s board president\, paired with Joyce Garbaciak\, former WISN news anchor. Our second duo brings together Julie Larrivee\, a Cathedral Center hospitality coordinator\, alongside her husband\, Wayne Larrivee\, the Radio Play-by-Play Voice of the Green Bay Packers — both dedicated Cathedral Center volunteers. \nCathedral Center will be receiving 10% of all bar and food sales as well as 100% of the tips collected. Every sip and bite brings us closer to our goal\, so come out\, have fun\, and make a difference! Together\, we can create a brighter future for our community. Don’t miss this chance to indulge while making a meaningful contribution—let’s raise a glass for change!
URL:https://cathedral-center.org/event/2026-blutender/
LOCATION:Blu at the Pfister\, 424 E Wisconsin Ave\, Milwaukee\, 53202\, United States
ATTACH;FMTTYPE=image/png:https://cathedral-center.org/wp-content/uploads/2026/04/BT26-BluTender-Banner-Green.png
END:VEVENT
END:VCALENDAR