BEGIN:VCALENDAR
VERSION:2.0
PRODID:-//The Cathedral Center - ECPv6.15.20//NONSGML v1.0//EN
CALSCALE:GREGORIAN
METHOD:PUBLISH
X-WR-CALNAME:The Cathedral Center
X-ORIGINAL-URL:https://cathedral-center.org
X-WR-CALDESC:Events for The Cathedral Center
REFRESH-INTERVAL;VALUE=DURATION:PT1H
X-Robots-Tag:noindex
X-PUBLISHED-TTL:PT1H
BEGIN:VTIMEZONE
TZID:America/Chicago
BEGIN:DAYLIGHT
TZOFFSETFROM:-0600
TZOFFSETTO:-0500
TZNAME:CDT
DTSTART:20250309T080000
END:DAYLIGHT
BEGIN:STANDARD
TZOFFSETFROM:-0500
TZOFFSETTO:-0600
TZNAME:CST
DTSTART:20251102T070000
END:STANDARD
BEGIN:DAYLIGHT
TZOFFSETFROM:-0600
TZOFFSETTO:-0500
TZNAME:CDT
DTSTART:20260308T080000
END:DAYLIGHT
BEGIN:STANDARD
TZOFFSETFROM:-0500
TZOFFSETTO:-0600
TZNAME:CST
DTSTART:20261101T070000
END:STANDARD
BEGIN:DAYLIGHT
TZOFFSETFROM:-0600
TZOFFSETTO:-0500
TZNAME:CDT
DTSTART:20270314T080000
END:DAYLIGHT
BEGIN:STANDARD
TZOFFSETFROM:-0500
TZOFFSETTO:-0600
TZNAME:CST
DTSTART:20271107T070000
END:STANDARD
END:VTIMEZONE
BEGIN:VEVENT
DTSTART;TZID=America/Chicago:20260118T130000
DTEND;TZID=America/Chicago:20260118T160000
DTSTAMP:20260424T172149
CREATED:20260112T182338Z
LAST-MODIFIED:20260112T182338Z
UID:3102-1768741200-1768752000@cathedral-center.org
SUMMARY:Bridge the Gap Communal Meal: Stories of Empowerment
DESCRIPTION:About the event\n\n\n\nAn event to ignite empowerment in Wisconsin\nBridge the Gap Communal Meal: Stories of Empowerment is a community empowerment event in Wisconsin designed to uplift the human spirit through shared stories\, cultural expression\, and the universal joy of coming together. This kickoff gathering for Flavors of Africa + Diaspora Wisconsin invites community members to connect\, reflect\, and celebrate the experiences that shape who we are. \nThis year\, we deepen our commitment to community connection with a shared meal designed to spark meaningful dialogue. When we sit down to eat together\, conversation flows – and with it\, understanding\, unity\, and the feeling of being part of something bigger. \nWe are celebrating stories of empowerment: moments of resilience\, creativity\, cultural pride\, and the human journey that connects us all. No matter our backgrounds\, we each carry experiences that shape who we are. Whether we’ve overcome challenges or are creating new paths that uplift others\, sharing our stories reminds us of our strength and our shared humanity. \nThe afternoon will include:  \nCOMMUNAL MEAL \nTraditional cultural dishes from Antigua Latin Cuisine\, Lola’s Empanadas & Frankie’s \nCULTURAL MUSIC & PERFORMANCES \nMusic from T’challa \nPerformances from Panadanza Dance Company and Odenigbo Group   \nINSPIRATIONAL SPEAKERS \nModerated by Yollande Tchouapi & Yomarie Castellano \n\n\nCitlali Mendieta-Ramos\, Owner\, Antigua Restaurant Group \n\n\nKristyn O’Laughlin Eitel\, Owner\, Toro Toro Toro \n\n\nMartha Bianchini\, Owner\, Cubanitas \n\n\nGriselda Aldrete\, Founder\, Aldrete Law & Consulting \n\n\nDr. Oby Nwabuzor\, Owner\, Envision Growth \n\n\nDr. Sheila Lambi-Oben\, Reclaim Her \n\n\nExpect an atmosphere filled with warmth\, positive energy\, and the kind of conversation that lingers long after the day ends. \nPLUS! SILENT AUCTION To help boost our efforts in raising funds for local organizations\, our silent auction will open from January 18\, 2026 and close at the conclusion of the Gala + Chef Showcase on February 22\, 2026. Together we can create meaningful impact in our community.  \nProceeds from this  community empowerment event Wisconsin residents can support benefit organizations that uplift and empower our community: The Cathedral Center\, FoodRight and Walker’s Point Center for the Arts
URL:https://cathedral-center.org/event/community-empowerment-event-wisconsin-bridge-the-gap/
LOCATION:Urban Ecology Center\, 1500 E Park Pl\, Milwaukee\, WI\, 53211\, United States
ATTACH;FMTTYPE=image/png:https://cathedral-center.org/wp-content/uploads/2026/01/FOAD-EmailGraphic.png
END:VEVENT
END:VCALENDAR